BEGIN:VCALENDAR
VERSION:2.0
PRODID:-//Squarespace Inc/Squarespace 6//v6//EN
BEGIN:VEVENT
UID:5f4c830f29cfe63ea87357b6@squarespace.com
DTSTAMP:20200901T012712Z
DTSTART:20200903T223000Z
DTEND:20200903T233000Z
SUMMARY:C4W - Sixth Roundtable - Special Activation Precinct Team &amp\; Wa
 gga Wagga City Council Update on RiFL
END:VEVENT
END:VCALENDAR
