BEGIN:VCALENDAR
VERSION:2.0
PRODID:-//Squarespace Inc/Squarespace 6//v6//EN
BEGIN:VEVENT
UID:5f3b38acc4957d773ce342aa@squarespace.com
DTSTAMP:20200916T055329Z
DTSTART:20200922T003000Z
DTEND:20200922T020000Z
SUMMARY:SEVENTH ROUNDTABLE - WAGGA WAGGA - DIGITAL CONNECTIVITY INTO THE FU
 TURE - GUEST SPEAKERS PETER AUHL\, CHRIS THORPE &amp\; JACYL SHAW
END:VEVENT
END:VCALENDAR
