BEGIN:VCALENDAR
VERSION:2.0
PRODID:-//Squarespace Inc/Squarespace 6//v6//EN
BEGIN:VEVENT
UID:5ec48567a88df03ea4db2bd9@squarespace.com
DTSTAMP:20200521T003222Z
DTSTART:20200529T030000Z
DTEND:20200529T040000Z
SUMMARY:FOURTH ROUNDTABLE MEETING - GUEST SPEAKERS THE HON MICHAEL MCCORMAC
 K MP AND GRANT CAIRNS\, COMMONWEALTH BANK
END:VEVENT
END:VCALENDAR
