BEGIN:VCALENDAR
VERSION:2.0
PRODID:-//Squarespace Inc/Squarespace 6//v6//EN
BEGIN:VEVENT
UID:5e9568b2780ee005e9ffd21a@squarespace.com
DTSTAMP:20200414T074026Z
DTSTART:20200416T070000Z
DTEND:20200416T080000Z
SUMMARY:Roundtable Virtual Meeting with the Board of Management
END:VEVENT
END:VCALENDAR
