BEGIN:VCALENDAR
VERSION:2.0
PRODID:-//Squarespace Inc/Squarespace 6//v6//EN
BEGIN:VEVENT
UID:5e9566fb2b3ccd128e41e223@squarespace.com
DTSTAMP:20200414T073921Z
DTSTART:20200228T013000Z
DTEND:20200228T030000Z
SUMMARY:Roundtable Luncheon with Michael Keys
END:VEVENT
END:VCALENDAR
