BEGIN:VCALENDAR
VERSION:2.0
PRODID:-//Squarespace Inc/Squarespace 6//v6//EN
BEGIN:VEVENT
UID:5fa0ede2a5854d4330460057@squarespace.com
DTSTAMP:20201110T001853Z
DTSTART:20201112T010000Z
DTEND:20201112T023000Z
SUMMARY:Committee for Wagga - Eighth Roundtable - Wagga Wagga Local Strateg
 ic Planning Statement
END:VEVENT
END:VCALENDAR
