BEGIN:VCALENDAR
VERSION:2.0
PRODID:-//Squarespace Inc/Squarespace 6//v6//EN
BEGIN:VEVENT
UID:5ce63774ec212d2e223ebab8@squarespace.com
DTSTAMP:20190701T002602Z
DTSTART:20190926T233000Z
DTEND:20190927T020000Z
SUMMARY:WAGGA WAGGA 100\,000 POPULATION BY YEAR 2038
GEO:-35.130693;147.341987
LOCATION:Rules Club Wagga Wagga\, Fernleigh Road\, NSW\, Australia
END:VEVENT
END:VCALENDAR
