BEGIN:VCALENDAR
VERSION:2.0
PRODID:-//Squarespace Inc/Squarespace 6//v6//EN
BEGIN:VEVENT
UID:5c880fb315fcc022aa4b2da2@squarespace.com
DTSTAMP:20190328T045306Z
DTSTART:20190228T220000Z
DTEND:20190301T000000Z
SUMMARY:Smart City Seminar
GEO:-35.116252;147.375668
LOCATION:The Mercure Wagga
END:VEVENT
END:VCALENDAR
